BEGIN:VCALENDAR
VERSION:2.0
PRODID:-//Les Archers de Ripaille - ECPv6.15.18//NONSGML v1.0//EN
CALSCALE:GREGORIAN
METHOD:PUBLISH
X-WR-CALNAME:Les Archers de Ripaille
X-ORIGINAL-URL:https://www.archersderipaille.fr
X-WR-CALDESC:Évènements pour Les Archers de Ripaille
REFRESH-INTERVAL;VALUE=DURATION:PT1H
X-Robots-Tag:noindex
X-PUBLISHED-TTL:PT1H
BEGIN:VTIMEZONE
TZID:Europe/Paris
BEGIN:DAYLIGHT
TZOFFSETFROM:+0100
TZOFFSETTO:+0200
TZNAME:CEST
DTSTART:20240331T010000
END:DAYLIGHT
BEGIN:STANDARD
TZOFFSETFROM:+0200
TZOFFSETTO:+0100
TZNAME:CET
DTSTART:20241027T010000
END:STANDARD
BEGIN:DAYLIGHT
TZOFFSETFROM:+0100
TZOFFSETTO:+0200
TZNAME:CEST
DTSTART:20250330T010000
END:DAYLIGHT
BEGIN:STANDARD
TZOFFSETFROM:+0200
TZOFFSETTO:+0100
TZNAME:CET
DTSTART:20251026T010000
END:STANDARD
BEGIN:DAYLIGHT
TZOFFSETFROM:+0100
TZOFFSETTO:+0200
TZNAME:CEST
DTSTART:20260329T010000
END:DAYLIGHT
BEGIN:STANDARD
TZOFFSETFROM:+0200
TZOFFSETTO:+0100
TZNAME:CET
DTSTART:20261025T010000
END:STANDARD
END:VTIMEZONE
BEGIN:VEVENT
DTSTART;TZID=Europe/Paris:20251109T000000
DTEND;TZID=Europe/Paris:20251109T235959
DTSTAMP:20260423T121942
CREATED:20250919T180749Z
LAST-MODIFIED:20251011T095808Z
UID:8689-1762646400-1762732799@www.archersderipaille.fr
SUMMARY:Concours Thônes
DESCRIPTION:Concours Individuel 18m + Coupe Régionale Jeunes
URL:https://www.archersderipaille.fr/event/tir-a-18m/
CATEGORIES:Concours
ORGANIZER;CN="Archers Vall%C3%A9e Th%C3%B4nes":MAILTO:archers.thones74@gmail.com
END:VEVENT
BEGIN:VEVENT
DTSTART;TZID=Europe/Paris:20251116T000000
DTEND;TZID=Europe/Paris:20251116T235959
DTSTAMP:20260423T121942
CREATED:20250919T182114Z
LAST-MODIFIED:20251019T114259Z
UID:8695-1763251200-1763337599@www.archersderipaille.fr
SUMMARY:Concours Debutants Gavot
DESCRIPTION:
URL:https://www.archersderipaille.fr/event/concours-debutants-gavot/
CATEGORIES:Concours
ORGANIZER;CN="Les Archers du Gavot":MAILTO:clement.estran@gmail.com
END:VEVENT
BEGIN:VEVENT
DTSTART;TZID=Europe/Paris:20251122T000000
DTEND;TZID=Europe/Paris:20251123T235959
DTSTAMP:20260423T121943
CREATED:20250919T182521Z
LAST-MODIFIED:20251021T144316Z
UID:8697-1763769600-1763942399@www.archersderipaille.fr
SUMMARY:Concours Seynod
DESCRIPTION:Tir à 18m
URL:https://www.archersderipaille.fr/event/concours-seynod/
CATEGORIES:Concours
ORGANIZER;CN="Cie de Tir %C3%A0 l'Arc Les Sagittaires":MAILTO:lessagittairesdeseynod@gmail.com
END:VEVENT
BEGIN:VEVENT
DTSTART;TZID=Europe/Paris:20251129T000000
DTEND;TZID=Europe/Paris:20251130T235959
DTSTAMP:20260423T121943
CREATED:20250919T182904Z
LAST-MODIFIED:20251021T144448Z
UID:8699-1764374400-1764547199@www.archersderipaille.fr
SUMMARY:Concours Annecy
DESCRIPTION:Tir à 18m et Concours Débutant le 30
URL:https://www.archersderipaille.fr/event/concours-annecy/
CATEGORIES:Concours
ORGANIZER;CN="1%C3%A8re Cie d'Arc d'Annecy St S%C3%A9bastien":MAILTO:arc.annecy@arc-annecy.com
END:VEVENT
BEGIN:VEVENT
DTSTART;TZID=Europe/Paris:20251130T000000
DTEND;TZID=Europe/Paris:20251130T235959
DTSTAMP:20260423T121943
CREATED:20250919T183043Z
LAST-MODIFIED:20251021T144554Z
UID:8701-1764460800-1764547199@www.archersderipaille.fr
SUMMARY:Concours Débutant Annecy
DESCRIPTION:
URL:https://www.archersderipaille.fr/event/concours-debutant-annecy/
CATEGORIES:Concours
ORGANIZER;CN="1%C3%A8re Cie d'Arc d'Annecy St S%C3%A9bastien":MAILTO:arc.annecy@arc-annecy.com
END:VEVENT
END:VCALENDAR