BEGIN:VCALENDAR
VERSION:2.0
PRODID:-//Les Archers de Ripaille - ECPv6.15.18//NONSGML v1.0//EN
CALSCALE:GREGORIAN
METHOD:PUBLISH
X-WR-CALNAME:Les Archers de Ripaille
X-ORIGINAL-URL:https://www.archersderipaille.fr
X-WR-CALDESC:Évènements pour Les Archers de Ripaille
REFRESH-INTERVAL;VALUE=DURATION:PT1H
X-Robots-Tag:noindex
X-PUBLISHED-TTL:PT1H
BEGIN:VTIMEZONE
TZID:Europe/Paris
BEGIN:DAYLIGHT
TZOFFSETFROM:+0100
TZOFFSETTO:+0200
TZNAME:CEST
DTSTART:20250330T010000
END:DAYLIGHT
BEGIN:STANDARD
TZOFFSETFROM:+0200
TZOFFSETTO:+0100
TZNAME:CET
DTSTART:20251026T010000
END:STANDARD
BEGIN:DAYLIGHT
TZOFFSETFROM:+0100
TZOFFSETTO:+0200
TZNAME:CEST
DTSTART:20260329T010000
END:DAYLIGHT
BEGIN:STANDARD
TZOFFSETFROM:+0200
TZOFFSETTO:+0100
TZNAME:CET
DTSTART:20261025T010000
END:STANDARD
BEGIN:DAYLIGHT
TZOFFSETFROM:+0100
TZOFFSETTO:+0200
TZNAME:CEST
DTSTART:20270328T010000
END:DAYLIGHT
BEGIN:STANDARD
TZOFFSETFROM:+0200
TZOFFSETTO:+0100
TZNAME:CET
DTSTART:20271031T010000
END:STANDARD
END:VTIMEZONE
BEGIN:VEVENT
DTSTART;TZID=Europe/Paris:20260401T171500
DTEND;TZID=Europe/Paris:20260401T191500
DTSTAMP:20260421T014946
CREATED:20251102T132537Z
LAST-MODIFIED:20251102T132539Z
UID:9408-1775063700-1775070900@www.archersderipaille.fr
SUMMARY:Séance Entraînement Compétiteurs
DESCRIPTION:Séance d’entraînement avec Xavier Mouronvalle pour les compétiteurs (inscription obligatoire)
URL:https://www.archersderipaille.fr/event/seance-entrainement-competiteurs-6/
CATEGORIES:Cours,Séance Entraînement
END:VEVENT
END:VCALENDAR