BEGIN:VCALENDAR
VERSION:2.0
PRODID:-//Les Archers de Ripaille - ECPv6.15.18//NONSGML v1.0//EN
CALSCALE:GREGORIAN
METHOD:PUBLISH
X-ORIGINAL-URL:https://www.archersderipaille.fr
X-WR-CALDESC:Évènements pour Les Archers de Ripaille
REFRESH-INTERVAL;VALUE=DURATION:PT1H
X-Robots-Tag:noindex
X-PUBLISHED-TTL:PT1H
BEGIN:VTIMEZONE
TZID:Europe/Paris
BEGIN:DAYLIGHT
TZOFFSETFROM:+0100
TZOFFSETTO:+0200
TZNAME:CEST
DTSTART:20240331T010000
END:DAYLIGHT
BEGIN:STANDARD
TZOFFSETFROM:+0200
TZOFFSETTO:+0100
TZNAME:CET
DTSTART:20241027T010000
END:STANDARD
BEGIN:DAYLIGHT
TZOFFSETFROM:+0100
TZOFFSETTO:+0200
TZNAME:CEST
DTSTART:20250330T010000
END:DAYLIGHT
BEGIN:STANDARD
TZOFFSETFROM:+0200
TZOFFSETTO:+0100
TZNAME:CET
DTSTART:20251026T010000
END:STANDARD
BEGIN:DAYLIGHT
TZOFFSETFROM:+0100
TZOFFSETTO:+0200
TZNAME:CEST
DTSTART:20260329T010000
END:DAYLIGHT
BEGIN:STANDARD
TZOFFSETFROM:+0200
TZOFFSETTO:+0100
TZNAME:CET
DTSTART:20261025T010000
END:STANDARD
END:VTIMEZONE
BEGIN:VEVENT
DTSTART;TZID=Europe/Paris:20250127T173000
DTEND;TZID=Europe/Paris:20250127T193000
DTSTAMP:20260426T024758
CREATED:20241017T143713Z
LAST-MODIFIED:20241017T143713Z
UID:5427-1737999000-1738006200@www.archersderipaille.fr
SUMMARY:Cours Pascal Colmaire
DESCRIPTION:Séance d'entraînement pour archers compétiteurs avec Pascal Colmaire.
URL:https://www.archersderipaille.fr/event/cours-pascal-colmaire-6/
LOCATION:Gymnase Champagne\, 3 Rue Henri Baud\, Thonon-les-Bains\, 74200
CATEGORIES:Cours
ORGANIZER;CN="Pascal Colmaire":MAILTO:contact@pascal-colmaire.org
END:VEVENT
END:VCALENDAR