BEGIN:VCALENDAR
VERSION:2.0
PRODID:-//Les Archers de Ripaille - ECPv6.15.18//NONSGML v1.0//EN
CALSCALE:GREGORIAN
METHOD:PUBLISH
X-WR-CALNAME:Les Archers de Ripaille
X-ORIGINAL-URL:https://www.archersderipaille.fr
X-WR-CALDESC:Évènements pour Les Archers de Ripaille
REFRESH-INTERVAL;VALUE=DURATION:PT1H
X-Robots-Tag:noindex
X-PUBLISHED-TTL:PT1H
BEGIN:VTIMEZONE
TZID:Europe/Paris
BEGIN:DAYLIGHT
TZOFFSETFROM:+0100
TZOFFSETTO:+0200
TZNAME:CEST
DTSTART:20230326T010000
END:DAYLIGHT
BEGIN:STANDARD
TZOFFSETFROM:+0200
TZOFFSETTO:+0100
TZNAME:CET
DTSTART:20231029T010000
END:STANDARD
BEGIN:DAYLIGHT
TZOFFSETFROM:+0100
TZOFFSETTO:+0200
TZNAME:CEST
DTSTART:20240331T010000
END:DAYLIGHT
BEGIN:STANDARD
TZOFFSETFROM:+0200
TZOFFSETTO:+0100
TZNAME:CET
DTSTART:20241027T010000
END:STANDARD
BEGIN:DAYLIGHT
TZOFFSETFROM:+0100
TZOFFSETTO:+0200
TZNAME:CEST
DTSTART:20250330T010000
END:DAYLIGHT
BEGIN:STANDARD
TZOFFSETFROM:+0200
TZOFFSETTO:+0100
TZNAME:CET
DTSTART:20251026T010000
END:STANDARD
END:VTIMEZONE
BEGIN:VEVENT
DTSTART;VALUE=DATE:20241109
DTEND;VALUE=DATE:20241110
DTSTAMP:20260426T061020
CREATED:20241012T121601Z
LAST-MODIFIED:20241012T121601Z
UID:5302-1731110400-1731196799@www.archersderipaille.fr
SUMMARY:Séance Annulée
DESCRIPTION:Le gymnase n’étant pas disponible ce jour\, nous sommes dans l’obligation d’annuler la séance de tir à l’arc prévue ce jour.\nVeuillez nous en excuser.
URL:https://www.archersderipaille.fr/event/seance-annulee/
CATEGORIES:Cours
END:VEVENT
BEGIN:VEVENT
DTSTART;VALUE=DATE:20241116
DTEND;VALUE=DATE:20241117
DTSTAMP:20260426T061020
CREATED:20241012T121808Z
LAST-MODIFIED:20241012T121808Z
UID:5305-1731715200-1731801599@www.archersderipaille.fr
SUMMARY:Séance Annulée
DESCRIPTION:Le gymnase n’étant (encore une fois et malgré nous) indisponible ce samedi\, nous sommes dans l’obligation d’annuler la séance de tir à l’arc.\nNous nous en excusons.
URL:https://www.archersderipaille.fr/event/seance-annulee-2/
CATEGORIES:Cours
END:VEVENT
BEGIN:VEVENT
DTSTART;TZID=Europe/Paris:20241123T160000
DTEND;TZID=Europe/Paris:20241123T173000
DTSTAMP:20260426T061020
CREATED:20241017T143117Z
LAST-MODIFIED:20241017T143117Z
UID:5419-1732377600-1732383000@www.archersderipaille.fr
SUMMARY:Cours Pascal Colmaire
DESCRIPTION:Séance d'entraînement pour archers compétiteurs avec Pascal Colmaire.
URL:https://www.archersderipaille.fr/event/cours-pascal-colmaire-2/
LOCATION:Gymnase Champagne\, 3 Rue Henri Baud\, Thonon-les-Bains\, 74200
CATEGORIES:Cours
ORGANIZER;CN="Pascal Colmaire":MAILTO:contact@pascal-colmaire.org
END:VEVENT
END:VCALENDAR