BEGIN:VCALENDAR
VERSION:2.0
PRODID:-//Les Archers de Ripaille - ECPv6.15.18//NONSGML v1.0//EN
CALSCALE:GREGORIAN
METHOD:PUBLISH
X-ORIGINAL-URL:https://www.archersderipaille.fr
X-WR-CALDESC:Évènements pour Les Archers de Ripaille
REFRESH-INTERVAL;VALUE=DURATION:PT1H
X-Robots-Tag:noindex
X-PUBLISHED-TTL:PT1H
BEGIN:VTIMEZONE
TZID:Europe/Paris
BEGIN:DAYLIGHT
TZOFFSETFROM:+0100
TZOFFSETTO:+0200
TZNAME:CEST
DTSTART:20240331T010000
END:DAYLIGHT
BEGIN:STANDARD
TZOFFSETFROM:+0200
TZOFFSETTO:+0100
TZNAME:CET
DTSTART:20241027T010000
END:STANDARD
BEGIN:DAYLIGHT
TZOFFSETFROM:+0100
TZOFFSETTO:+0200
TZNAME:CEST
DTSTART:20250330T010000
END:DAYLIGHT
BEGIN:STANDARD
TZOFFSETFROM:+0200
TZOFFSETTO:+0100
TZNAME:CET
DTSTART:20251026T010000
END:STANDARD
BEGIN:DAYLIGHT
TZOFFSETFROM:+0100
TZOFFSETTO:+0200
TZNAME:CEST
DTSTART:20260329T010000
END:DAYLIGHT
BEGIN:STANDARD
TZOFFSETFROM:+0200
TZOFFSETTO:+0100
TZNAME:CET
DTSTART:20261025T010000
END:STANDARD
BEGIN:DAYLIGHT
TZOFFSETFROM:+0100
TZOFFSETTO:+0200
TZNAME:CEST
DTSTART:20270328T010000
END:DAYLIGHT
BEGIN:STANDARD
TZOFFSETFROM:+0200
TZOFFSETTO:+0100
TZNAME:CET
DTSTART:20271031T010000
END:STANDARD
END:VTIMEZONE
BEGIN:VEVENT
DTSTART;TZID=Europe/Paris:20251129T000000
DTEND;TZID=Europe/Paris:20251130T235959
DTSTAMP:20260420T121617
CREATED:20250919T182904Z
LAST-MODIFIED:20251021T144448Z
UID:8699-1764374400-1764547199@www.archersderipaille.fr
SUMMARY:Concours Annecy
DESCRIPTION:Tir à 18m et Concours Débutant le 30
URL:https://www.archersderipaille.fr/event/concours-annecy/
CATEGORIES:Concours
ORGANIZER;CN="1%C3%A8re Cie d'Arc d'Annecy St S%C3%A9bastien":MAILTO:arc.annecy@arc-annecy.com
END:VEVENT
BEGIN:VEVENT
DTSTART;TZID=Europe/Paris:20251130T000000
DTEND;TZID=Europe/Paris:20251130T235959
DTSTAMP:20260420T121617
CREATED:20250919T183043Z
LAST-MODIFIED:20251021T144554Z
UID:8701-1764460800-1764547199@www.archersderipaille.fr
SUMMARY:Concours Débutant Annecy
DESCRIPTION:
URL:https://www.archersderipaille.fr/event/concours-debutant-annecy/
CATEGORIES:Concours
ORGANIZER;CN="1%C3%A8re Cie d'Arc d'Annecy St S%C3%A9bastien":MAILTO:arc.annecy@arc-annecy.com
END:VEVENT
BEGIN:VEVENT
DTSTART;TZID=Europe/Paris:20251206T000000
DTEND;TZID=Europe/Paris:20251207T235959
DTSTAMP:20260420T121617
CREATED:20250919T183351Z
LAST-MODIFIED:20251101T195051Z
UID:8703-1764979200-1765151999@www.archersderipaille.fr
SUMMARY:Concours Annemasse
DESCRIPTION:Tir à 18m
URL:https://www.archersderipaille.fr/event/concours-annemasse/
CATEGORIES:Concours
ORGANIZER;CN="1%C3%A8re Cie d'Annemasse":MAILTO:richard.cordeau1971@gmail.com
END:VEVENT
BEGIN:VEVENT
DTSTART;TZID=Europe/Paris:20251213T000000
DTEND;TZID=Europe/Paris:20251214T235959
DTSTAMP:20260420T121617
CREATED:20250919T183822Z
LAST-MODIFIED:20251112T133803Z
UID:8705-1765584000-1765756799@www.archersderipaille.fr
SUMMARY:Concours Cluses
DESCRIPTION:Tir à 18m
URL:https://www.archersderipaille.fr/event/concours-cluses/
CATEGORIES:Concours
ORGANIZER;CN="Arc Club Clusien":MAILTO:president.acclusien@gmail.com
END:VEVENT
BEGIN:VEVENT
DTSTART;TZID=Europe/Paris:20260111T000000
DTEND;TZID=Europe/Paris:20260111T235959
DTSTAMP:20260420T121617
CREATED:20250919T201518Z
LAST-MODIFIED:20251204T214819Z
UID:8708-1768089600-1768175999@www.archersderipaille.fr
SUMMARY:Tournoi du Léman-Thonon
DESCRIPTION:Tir à 18m format tournoi
URL:https://www.archersderipaille.fr/event/tournoi-du-leman-thonon/
LOCATION:Gymnase Champagne\, 3 Rue Henri Baud\, Thonon-les-Bains\, 74200
CATEGORIES:Concours
ORGANIZER;CN="Les Archers de Ripaille":MAILTO:president@archersderipaille.fr
END:VEVENT
BEGIN:VEVENT
DTSTART;TZID=Europe/Paris:20260117T000000
DTEND;TZID=Europe/Paris:20260118T235959
DTSTAMP:20260420T121618
CREATED:20250919T201729Z
LAST-MODIFIED:20251210T133511Z
UID:8710-1768608000-1768780799@www.archersderipaille.fr
SUMMARY:Concours Cruseilles
DESCRIPTION:Tir à 18m  Coupe Régionale Jeunes et Concours Débutant
URL:https://www.archersderipaille.fr/event/concours-cruseilles/
CATEGORIES:Concours
ORGANIZER;CN="Les Archers du Sal%C3%A8ve":MAILTO:lesarchersdusaleve@gmail.com
END:VEVENT
BEGIN:VEVENT
DTSTART;TZID=Europe/Paris:20260124T000000
DTEND;TZID=Europe/Paris:20260125T235959
DTSTAMP:20260420T121618
CREATED:20250919T201918Z
LAST-MODIFIED:20260114T122359Z
UID:8712-1769212800-1769385599@www.archersderipaille.fr
SUMMARY:Concours Bonneville
DESCRIPTION:Tir à 18m + Coupe Régionale Jeunes + Concours Débutants
URL:https://www.archersderipaille.fr/event/concours-bonneville/
CATEGORIES:Concours
ORGANIZER;CN="Les Archers du Faucigny":MAILTO:adrien.garcia26@gmail.com
END:VEVENT
BEGIN:VEVENT
DTSTART;TZID=Europe/Paris:20260125T000000
DTEND;TZID=Europe/Paris:20260125T235959
DTSTAMP:20260420T121618
CREATED:20250919T202045Z
LAST-MODIFIED:20260114T122529Z
UID:8714-1769299200-1769385599@www.archersderipaille.fr
SUMMARY:Concours Débutant Bonneville
DESCRIPTION:
URL:https://www.archersderipaille.fr/event/concours-debutant-bonneville/
CATEGORIES:Concours
ORGANIZER;CN="Les Archers du Faucigny":MAILTO:adrien.garcia26@gmail.com
END:VEVENT
BEGIN:VEVENT
DTSTART;TZID=Europe/Paris:20260131T000000
DTEND;TZID=Europe/Paris:20260201T235959
DTSTAMP:20260420T121618
CREATED:20250919T202329Z
LAST-MODIFIED:20260114T122738Z
UID:8716-1769817600-1769990399@www.archersderipaille.fr
SUMMARY:Départemental 74 - Seynod
DESCRIPTION:Championnat Départemental 74
URL:https://www.archersderipaille.fr/event/departemental-74-seynod/
CATEGORIES:Concours
ORGANIZER;CN="Cie de Tir %C3%A0 l'Arc Les Sagittaires":MAILTO:lessagittairesdeseynod@gmail.com
END:VEVENT
BEGIN:VEVENT
DTSTART;TZID=Europe/Paris:20260307T000000
DTEND;TZID=Europe/Paris:20260307T235959
DTSTAMP:20260420T121618
CREATED:20250919T202529Z
LAST-MODIFIED:20260225T185011Z
UID:8718-1772841600-1772927999@www.archersderipaille.fr
SUMMARY:Concours Débutant Thonon
DESCRIPTION:
URL:https://www.archersderipaille.fr/event/concours-debutant-gavot/
CATEGORIES:Concours
ORGANIZER;CN="Les Archers de Ripaille":MAILTO:president@archersderipaille.fr
END:VEVENT
BEGIN:VEVENT
DTSTART;TZID=Europe/Paris:20260307T000000
DTEND;TZID=Europe/Paris:20260307T235959
DTSTAMP:20260420T121618
CREATED:20250919T202648Z
LAST-MODIFIED:20260202T160936Z
UID:8720-1772841600-1772927999@www.archersderipaille.fr
SUMMARY:Trophée des Mixtes
DESCRIPTION:
URL:https://www.archersderipaille.fr/event/trophee-des-mixtes-2/
CATEGORIES:Concours
ORGANIZER;CN="Les Archers du Gavot":MAILTO:clement.estran@gmail.com
END:VEVENT
BEGIN:VEVENT
DTSTART;TZID=Europe/Paris:20260307T000000
DTEND;TZID=Europe/Paris:20260307T235959
DTSTAMP:20260420T121618
CREATED:20250919T203039Z
LAST-MODIFIED:20260127T154655Z
UID:8722-1772841600-1772927999@www.archersderipaille.fr
SUMMARY:Before the Girls
DESCRIPTION:Tir à l’arc au Féminin
URL:https://www.archersderipaille.fr/event/before-the-girls/
CATEGORIES:Concours
ORGANIZER;CN="1%C3%A8re Cie d'Arc d'Annecy St S%C3%A9bastien":MAILTO:arc.annecy@arc-annecy.com
END:VEVENT
BEGIN:VEVENT
DTSTART;TZID=Europe/Paris:20260308T000000
DTEND;TZID=Europe/Paris:20260308T235959
DTSTAMP:20260420T121618
CREATED:20250919T203251Z
LAST-MODIFIED:20260127T154758Z
UID:8724-1772928000-1773014399@www.archersderipaille.fr
SUMMARY:Girls de la Yaute
DESCRIPTION:Tir à l’arc au Féminin
URL:https://www.archersderipaille.fr/event/girls-de-la-yaute/
CATEGORIES:Concours
ORGANIZER;CN="1%C3%A8re Cie d'Arc d'Annecy St S%C3%A9bastien":MAILTO:arc.annecy@arc-annecy.com
END:VEVENT
BEGIN:VEVENT
DTSTART;TZID=Europe/Paris:20260321T000000
DTEND;TZID=Europe/Paris:20260322T235959
DTSTAMP:20260420T121618
CREATED:20260216T133341Z
LAST-MODIFIED:20260219T132906Z
UID:9951-1774051200-1774223999@www.archersderipaille.fr
SUMMARY:Concours Vegas Jussy
DESCRIPTION:Tir par équipes et individuel sur trispot vegas
URL:https://www.archersderipaille.fr/event/concours-vegas-jussy/
LOCATION:Centre sportif des Beillans\, 11 route des Beillans\, Jussy\, France
CATEGORIES:Concours
END:VEVENT
BEGIN:VEVENT
DTSTART;TZID=Europe/Paris:20260322T000000
DTEND;TZID=Europe/Paris:20260322T235959
DTSTAMP:20260420T121618
CREATED:20250919T203449Z
LAST-MODIFIED:20260310T144111Z
UID:8726-1774137600-1774223999@www.archersderipaille.fr
SUMMARY:Concours Débutants Sallanches
DESCRIPTION:
URL:https://www.archersderipaille.fr/event/concours-debutants-sallanches/
CATEGORIES:Concours
ORGANIZER;CN="Les Archers de la Sallanche":MAILTO:archersdelasallanche@outlook.fr
END:VEVENT
BEGIN:VEVENT
DTSTART;TZID=Europe/Paris:20260328T000000
DTEND;TZID=Europe/Paris:20260328T235959
DTSTAMP:20260420T121618
CREATED:20250919T203633Z
LAST-MODIFIED:20260310T144319Z
UID:8728-1774656000-1774742399@www.archersderipaille.fr
SUMMARY:Concours Débutants Annemasse
DESCRIPTION:
URL:https://www.archersderipaille.fr/event/concours-debutants-annemasse/
CATEGORIES:Concours
ORGANIZER;CN="1%C3%A8re Cie d'Annemasse":MAILTO:richard.cordeau1971@gmail.com
END:VEVENT
BEGIN:VEVENT
DTSTART;TZID=Europe/Paris:20260404T000000
DTEND;TZID=Europe/Paris:20260404T235959
DTSTAMP:20260420T121618
CREATED:20260310T144708Z
LAST-MODIFIED:20260310T144711Z
UID:10219-1775260800-1775347199@www.archersderipaille.fr
SUMMARY:Concours Débutant Thônes
DESCRIPTION:
URL:https://www.archersderipaille.fr/event/concours-debutant-thones/
LOCATION:Gymnase des Perrasses\, Gymnase des Perrasses\, Thônes\, 74230
CATEGORIES:Concours
ORGANIZER;CN="Les Archers de la Sallanche":MAILTO:archersdelasallanche@outlook.fr
END:VEVENT
BEGIN:VEVENT
DTSTART;TZID=Europe/Paris:20260418T000000
DTEND;TZID=Europe/Paris:20260419T235959
DTSTAMP:20260420T121618
CREATED:20260312T175801Z
LAST-MODIFIED:20260312T175804Z
UID:10227-1776470400-1776643199@www.archersderipaille.fr
SUMMARY:Concours TAE Bonneville
DESCRIPTION:
URL:https://www.archersderipaille.fr/event/concours-tae-bonneville/
CATEGORIES:Concours
ORGANIZER;CN="Les Archers du Faucigny":MAILTO:adrien.garcia26@gmail.com
END:VEVENT
BEGIN:VEVENT
DTSTART;TZID=Europe/Paris:20260425T000000
DTEND;TZID=Europe/Paris:20260425T235959
DTSTAMP:20260420T121618
CREATED:20260312T181339Z
LAST-MODIFIED:20260312T181341Z
UID:10230-1777075200-1777161599@www.archersderipaille.fr
SUMMARY:Manches Challenge + DR Annecy
DESCRIPTION:
URL:https://www.archersderipaille.fr/event/manches-challenge-dr-annecy/
CATEGORIES:Concours
ORGANIZER;CN="1%C3%A8re Cie d'Arc d'Annecy St S%C3%A9bastien":MAILTO:arc.annecy@arc-annecy.com
END:VEVENT
BEGIN:VEVENT
DTSTART;TZID=Europe/Paris:20260425T000000
DTEND;TZID=Europe/Paris:20260426T235959
DTSTAMP:20260420T121618
CREATED:20260312T181539Z
LAST-MODIFIED:20260312T181541Z
UID:10232-1777075200-1777247999@www.archersderipaille.fr
SUMMARY:Tir 3D Cruseilles
DESCRIPTION:
URL:https://www.archersderipaille.fr/event/tir-3d-cruseilles/
CATEGORIES:Concours
ORGANIZER;CN="Les Archers du Sal%C3%A8ve":MAILTO:lesarchersdusaleve@gmail.com
END:VEVENT
BEGIN:VEVENT
DTSTART;TZID=Europe/Paris:20260426T000000
DTEND;TZID=Europe/Paris:20260426T235959
DTSTAMP:20260420T121618
CREATED:20260312T181703Z
LAST-MODIFIED:20260312T181705Z
UID:10234-1777161600-1777247999@www.archersderipaille.fr
SUMMARY:TAE DI/DN et Débutants Annecy
DESCRIPTION:
URL:https://www.archersderipaille.fr/event/tae-di-dn-et-debutants-annecy/
CATEGORIES:Concours
ORGANIZER;CN="1%C3%A8re Cie d'Arc d'Annecy St S%C3%A9bastien":MAILTO:arc.annecy@arc-annecy.com
END:VEVENT
BEGIN:VEVENT
DTSTART;TZID=Europe/Paris:20260509T000000
DTEND;TZID=Europe/Paris:20260509T235959
DTSTAMP:20260420T121618
CREATED:20260312T181832Z
LAST-MODIFIED:20260312T181835Z
UID:10236-1778284800-1778371199@www.archersderipaille.fr
SUMMARY:Tir 3D Gavot
DESCRIPTION:
URL:https://www.archersderipaille.fr/event/tir-3d-gavot/
CATEGORIES:Concours
ORGANIZER;CN="Les Archers du Gavot":MAILTO:clement.estran@gmail.com
END:VEVENT
BEGIN:VEVENT
DTSTART;TZID=Europe/Paris:20260509T000000
DTEND;TZID=Europe/Paris:20260509T235959
DTSTAMP:20260420T121618
CREATED:20260312T182037Z
LAST-MODIFIED:20260312T182336Z
UID:10238-1778284800-1778371199@www.archersderipaille.fr
SUMMARY:TAE Débutants Bonneville
DESCRIPTION:
URL:https://www.archersderipaille.fr/event/tae-debutants-bonneville/
CATEGORIES:Concours
ORGANIZER;CN="Les Archers du Faucigny":MAILTO:adrien.garcia26@gmail.com
END:VEVENT
BEGIN:VEVENT
DTSTART;TZID=Europe/Paris:20260510T000000
DTEND;TZID=Europe/Paris:20260510T235959
DTSTAMP:20260420T121618
CREATED:20260312T182211Z
LAST-MODIFIED:20260312T182213Z
UID:10240-1778371200-1778457599@www.archersderipaille.fr
SUMMARY:Départementale Tir 3D Gavot
DESCRIPTION:
URL:https://www.archersderipaille.fr/event/departementale-tir-3d-gavot/
CATEGORIES:Concours
ORGANIZER;CN="Les Archers du Gavot":MAILTO:clement.estran@gmail.com
END:VEVENT
BEGIN:VEVENT
DTSTART;TZID=Europe/Paris:20260531T000000
DTEND;TZID=Europe/Paris:20260531T235959
DTSTAMP:20260420T121618
CREATED:20260312T182720Z
LAST-MODIFIED:20260312T182723Z
UID:10242-1780185600-1780271999@www.archersderipaille.fr
SUMMARY:DRE Poulies Sallanches
DESCRIPTION:
URL:https://www.archersderipaille.fr/event/dre-poulies-sallanches/
CATEGORIES:Concours
ORGANIZER;CN="Les Archers de la Sallanche":MAILTO:archersdelasallanche@outlook.fr
END:VEVENT
BEGIN:VEVENT
DTSTART;TZID=Europe/Paris:20260606T000000
DTEND;TZID=Europe/Paris:20260606T235959
DTSTAMP:20260420T121618
CREATED:20260312T182919Z
LAST-MODIFIED:20260312T182922Z
UID:10244-1780704000-1780790399@www.archersderipaille.fr
SUMMARY:TAE Cluses
DESCRIPTION:
URL:https://www.archersderipaille.fr/event/tae-cluses/
CATEGORIES:Concours
ORGANIZER;CN="Arc Club Clusien":MAILTO:president.acclusien@gmail.com
END:VEVENT
BEGIN:VEVENT
DTSTART;TZID=Europe/Paris:20260607T000000
DTEND;TZID=Europe/Paris:20260607T235959
DTSTAMP:20260420T121618
CREATED:20260312T183102Z
LAST-MODIFIED:20260312T183104Z
UID:10246-1780790400-1780876799@www.archersderipaille.fr
SUMMARY:TAE DI/DI + Débutant Sallanches
DESCRIPTION:
URL:https://www.archersderipaille.fr/event/tae-di-di-debutant-sallanches/
CATEGORIES:Concours
ORGANIZER;CN="Les Archers de la Sallanche":MAILTO:archersdelasallanche@outlook.fr
END:VEVENT
BEGIN:VEVENT
DTSTART;TZID=Europe/Paris:20260621T000000
DTEND;TZID=Europe/Paris:20260621T235959
DTSTAMP:20260420T121618
CREATED:20260312T183218Z
LAST-MODIFIED:20260312T183221Z
UID:10248-1782000000-1782086399@www.archersderipaille.fr
SUMMARY:TEA DI/DN Thônes
DESCRIPTION:
URL:https://www.archersderipaille.fr/event/tea-di-dn-thones/
CATEGORIES:Concours
ORGANIZER;CN="Archers Vall%C3%A9e Th%C3%B4nes":MAILTO:archers.thones74@gmail.com
END:VEVENT
BEGIN:VEVENT
DTSTART;TZID=Europe/Paris:20260627T000000
DTEND;TZID=Europe/Paris:20260628T235959
DTSTAMP:20260420T121618
CREATED:20260312T183344Z
LAST-MODIFIED:20260312T183347Z
UID:10250-1782518400-1782691199@www.archersderipaille.fr
SUMMARY:TAE DI/DN + Débutant Annemasse
DESCRIPTION:
URL:https://www.archersderipaille.fr/event/tae-di-dn-debutant-annemasse/
CATEGORIES:Concours
ORGANIZER;CN="1%C3%A8re Cie d'Annemasse":MAILTO:richard.cordeau1971@gmail.com
END:VEVENT
END:VCALENDAR