BEGIN:VCALENDAR
VERSION:2.0
PRODID:-//Les Archers de Ripaille - ECPv6.15.18//NONSGML v1.0//EN
CALSCALE:GREGORIAN
METHOD:PUBLISH
X-WR-CALNAME:Les Archers de Ripaille
X-ORIGINAL-URL:https://www.archersderipaille.fr
X-WR-CALDESC:Évènements pour Les Archers de Ripaille
REFRESH-INTERVAL;VALUE=DURATION:PT1H
X-Robots-Tag:noindex
X-PUBLISHED-TTL:PT1H
BEGIN:VTIMEZONE
TZID:Europe/Paris
BEGIN:DAYLIGHT
TZOFFSETFROM:+0100
TZOFFSETTO:+0200
TZNAME:CEST
DTSTART:20230326T010000
END:DAYLIGHT
BEGIN:STANDARD
TZOFFSETFROM:+0200
TZOFFSETTO:+0100
TZNAME:CET
DTSTART:20231029T010000
END:STANDARD
BEGIN:DAYLIGHT
TZOFFSETFROM:+0100
TZOFFSETTO:+0200
TZNAME:CEST
DTSTART:20240331T010000
END:DAYLIGHT
BEGIN:STANDARD
TZOFFSETFROM:+0200
TZOFFSETTO:+0100
TZNAME:CET
DTSTART:20241027T010000
END:STANDARD
BEGIN:DAYLIGHT
TZOFFSETFROM:+0100
TZOFFSETTO:+0200
TZNAME:CEST
DTSTART:20250330T010000
END:DAYLIGHT
BEGIN:STANDARD
TZOFFSETFROM:+0200
TZOFFSETTO:+0100
TZNAME:CET
DTSTART:20251026T010000
END:STANDARD
END:VTIMEZONE
BEGIN:VEVENT
DTSTART;TZID=Europe/Paris:20241130T000000
DTEND;TZID=Europe/Paris:20241201T235959
DTSTAMP:20260422T141146
CREATED:20240928T172229Z
LAST-MODIFIED:20241103T184010Z
UID:4936-1732924800-1733097599@www.archersderipaille.fr
SUMMARY:Concours Annecy 18m
DESCRIPTION:Tir Individuel 18m - Rencontre Débutants le 01/12
URL:https://www.archersderipaille.fr/event/concours-annecy-18m/
LOCATION:Gymmnase des Marquisats\, 54 Rue des Marquisats\, Annecy\, 74000
CATEGORIES:Concours
ORGANIZER;CN="1%C3%A8re Cie d'Arc d'Annecy St S%C3%A9bastien":MAILTO:arc.annecy@arc-annecy.com
END:VEVENT
END:VCALENDAR