BEGIN:VCALENDAR
VERSION:2.0
PRODID:-//Les Archers de Ripaille - ECPv6.15.18//NONSGML v1.0//EN
CALSCALE:GREGORIAN
METHOD:PUBLISH
X-ORIGINAL-URL:https://www.archersderipaille.fr
X-WR-CALDESC:Évènements pour Les Archers de Ripaille
REFRESH-INTERVAL;VALUE=DURATION:PT1H
X-Robots-Tag:noindex
X-PUBLISHED-TTL:PT1H
BEGIN:VTIMEZONE
TZID:Europe/Paris
BEGIN:DAYLIGHT
TZOFFSETFROM:+0100
TZOFFSETTO:+0200
TZNAME:CEST
DTSTART:20250330T010000
END:DAYLIGHT
BEGIN:STANDARD
TZOFFSETFROM:+0200
TZOFFSETTO:+0100
TZNAME:CET
DTSTART:20251026T010000
END:STANDARD
BEGIN:DAYLIGHT
TZOFFSETFROM:+0100
TZOFFSETTO:+0200
TZNAME:CEST
DTSTART:20260329T010000
END:DAYLIGHT
BEGIN:STANDARD
TZOFFSETFROM:+0200
TZOFFSETTO:+0100
TZNAME:CET
DTSTART:20261025T010000
END:STANDARD
BEGIN:DAYLIGHT
TZOFFSETFROM:+0100
TZOFFSETTO:+0200
TZNAME:CEST
DTSTART:20270328T010000
END:DAYLIGHT
BEGIN:STANDARD
TZOFFSETFROM:+0200
TZOFFSETTO:+0100
TZNAME:CET
DTSTART:20271031T010000
END:STANDARD
END:VTIMEZONE
BEGIN:VEVENT
DTSTART;TZID=Europe/Paris:20260111T000000
DTEND;TZID=Europe/Paris:20260111T235959
DTSTAMP:20260422T195350
CREATED:20250919T201518Z
LAST-MODIFIED:20251204T214819Z
UID:8708-1768089600-1768175999@www.archersderipaille.fr
SUMMARY:Tournoi du Léman-Thonon
DESCRIPTION:Tir à 18m format tournoi
URL:https://www.archersderipaille.fr/event/tournoi-du-leman-thonon/
LOCATION:Gymnase Champagne\, 3 Rue Henri Baud\, Thonon-les-Bains\, 74200
CATEGORIES:Concours
ORGANIZER;CN="Les Archers de Ripaille":MAILTO:president@archersderipaille.fr
END:VEVENT
BEGIN:VEVENT
DTSTART;TZID=Europe/Paris:20260117T000000
DTEND;TZID=Europe/Paris:20260118T235959
DTSTAMP:20260422T195350
CREATED:20250919T201729Z
LAST-MODIFIED:20251210T133511Z
UID:8710-1768608000-1768780799@www.archersderipaille.fr
SUMMARY:Concours Cruseilles
DESCRIPTION:Tir à 18m  Coupe Régionale Jeunes et Concours Débutant
URL:https://www.archersderipaille.fr/event/concours-cruseilles/
CATEGORIES:Concours
ORGANIZER;CN="Les Archers du Sal%C3%A8ve":MAILTO:lesarchersdusaleve@gmail.com
END:VEVENT
BEGIN:VEVENT
DTSTART;TZID=Europe/Paris:20260124T000000
DTEND;TZID=Europe/Paris:20260125T235959
DTSTAMP:20260422T195350
CREATED:20250919T201918Z
LAST-MODIFIED:20260114T122359Z
UID:8712-1769212800-1769385599@www.archersderipaille.fr
SUMMARY:Concours Bonneville
DESCRIPTION:Tir à 18m + Coupe Régionale Jeunes + Concours Débutants
URL:https://www.archersderipaille.fr/event/concours-bonneville/
CATEGORIES:Concours
ORGANIZER;CN="Les Archers du Faucigny":MAILTO:adrien.garcia26@gmail.com
END:VEVENT
BEGIN:VEVENT
DTSTART;TZID=Europe/Paris:20260125T000000
DTEND;TZID=Europe/Paris:20260125T235959
DTSTAMP:20260422T195350
CREATED:20250919T202045Z
LAST-MODIFIED:20260114T122529Z
UID:8714-1769299200-1769385599@www.archersderipaille.fr
SUMMARY:Concours Débutant Bonneville
DESCRIPTION:
URL:https://www.archersderipaille.fr/event/concours-debutant-bonneville/
CATEGORIES:Concours
ORGANIZER;CN="Les Archers du Faucigny":MAILTO:adrien.garcia26@gmail.com
END:VEVENT
BEGIN:VEVENT
DTSTART;TZID=Europe/Paris:20260131T000000
DTEND;TZID=Europe/Paris:20260201T235959
DTSTAMP:20260422T195350
CREATED:20250919T202329Z
LAST-MODIFIED:20260114T122738Z
UID:8716-1769817600-1769990399@www.archersderipaille.fr
SUMMARY:Départemental 74 - Seynod
DESCRIPTION:Championnat Départemental 74
URL:https://www.archersderipaille.fr/event/departemental-74-seynod/
CATEGORIES:Concours
ORGANIZER;CN="Cie de Tir %C3%A0 l'Arc Les Sagittaires":MAILTO:lessagittairesdeseynod@gmail.com
END:VEVENT
END:VCALENDAR