BEGIN:VCALENDAR
VERSION:2.0
PRODID:-//Les Archers de Ripaille - ECPv6.15.18//NONSGML v1.0//EN
CALSCALE:GREGORIAN
METHOD:PUBLISH
X-ORIGINAL-URL:https://www.archersderipaille.fr
X-WR-CALDESC:Évènements pour Les Archers de Ripaille
REFRESH-INTERVAL;VALUE=DURATION:PT1H
X-Robots-Tag:noindex
X-PUBLISHED-TTL:PT1H
BEGIN:VTIMEZONE
TZID:Europe/Paris
BEGIN:DAYLIGHT
TZOFFSETFROM:+0100
TZOFFSETTO:+0200
TZNAME:CEST
DTSTART:20240331T010000
END:DAYLIGHT
BEGIN:STANDARD
TZOFFSETFROM:+0200
TZOFFSETTO:+0100
TZNAME:CET
DTSTART:20241027T010000
END:STANDARD
BEGIN:DAYLIGHT
TZOFFSETFROM:+0100
TZOFFSETTO:+0200
TZNAME:CEST
DTSTART:20250330T010000
END:DAYLIGHT
BEGIN:STANDARD
TZOFFSETFROM:+0200
TZOFFSETTO:+0100
TZNAME:CET
DTSTART:20251026T010000
END:STANDARD
BEGIN:DAYLIGHT
TZOFFSETFROM:+0100
TZOFFSETTO:+0200
TZNAME:CEST
DTSTART:20260329T010000
END:DAYLIGHT
BEGIN:STANDARD
TZOFFSETFROM:+0200
TZOFFSETTO:+0100
TZNAME:CET
DTSTART:20261025T010000
END:STANDARD
END:VTIMEZONE
BEGIN:VEVENT
DTSTART;TZID=Europe/Paris:20250607T000000
DTEND;TZID=Europe/Paris:20250608T235959
DTSTAMP:20260422T170428
CREATED:20250104T175604Z
LAST-MODIFIED:20250509T095434Z
UID:6362-1749254400-1749427199@www.archersderipaille.fr
SUMMARY:Concours Ext. Sallanches
DESCRIPTION:Concours Débutant et Tir Individuel le 7 + 3eme Manche DRE le 8
URL:https://www.archersderipaille.fr/event/concours-ext-sallanches/
CATEGORIES:Concours
ORGANIZER;CN="Les Archers de la Sallanche":MAILTO:archersdelasallanche@outlook.fr
END:VEVENT
BEGIN:VEVENT
DTSTART;TZID=Europe/Paris:20250621T000000
DTEND;TZID=Europe/Paris:20250622T235959
DTSTAMP:20260422T170428
CREATED:20250104T180142Z
LAST-MODIFIED:20250508T163938Z
UID:6366-1750464000-1750636799@www.archersderipaille.fr
SUMMARY:Concours Ext. Annemasse
DESCRIPTION:Tir Individuel Extérieur
URL:https://www.archersderipaille.fr/event/concours-ext-annemasse/
CATEGORIES:Concours
ORGANIZER;CN="1%C3%A8re Cie d'Annemasse":MAILTO:richard.cordeau1971@gmail.com
END:VEVENT
BEGIN:VEVENT
DTSTART;TZID=Europe/Paris:20250628T000000
DTEND;TZID=Europe/Paris:20250628T235959
DTSTAMP:20260422T170428
CREATED:20250104T180637Z
LAST-MODIFIED:20250104T180639Z
UID:6368-1751068800-1751155199@www.archersderipaille.fr
SUMMARY:Concours Ext. Seynod
DESCRIPTION:Rencontre Débutants
URL:https://www.archersderipaille.fr/event/concours-ext-seynod/
CATEGORIES:Concours
ORGANIZER;CN="Cie de Tir %C3%A0 l'Arc Les Sagittaires":MAILTO:lessagittairesdeseynod@gmail.com
END:VEVENT
END:VCALENDAR