BEGIN:VCALENDAR
VERSION:2.0
PRODID:-//Les Archers de Ripaille - ECPv6.15.18//NONSGML v1.0//EN
CALSCALE:GREGORIAN
METHOD:PUBLISH
X-ORIGINAL-URL:https://www.archersderipaille.fr
X-WR-CALDESC:Évènements pour Les Archers de Ripaille
REFRESH-INTERVAL;VALUE=DURATION:PT1H
X-Robots-Tag:noindex
X-PUBLISHED-TTL:PT1H
BEGIN:VTIMEZONE
TZID:Europe/Paris
BEGIN:DAYLIGHT
TZOFFSETFROM:+0100
TZOFFSETTO:+0200
TZNAME:CEST
DTSTART:20240331T010000
END:DAYLIGHT
BEGIN:STANDARD
TZOFFSETFROM:+0200
TZOFFSETTO:+0100
TZNAME:CET
DTSTART:20241027T010000
END:STANDARD
BEGIN:DAYLIGHT
TZOFFSETFROM:+0100
TZOFFSETTO:+0200
TZNAME:CEST
DTSTART:20250330T010000
END:DAYLIGHT
BEGIN:STANDARD
TZOFFSETFROM:+0200
TZOFFSETTO:+0100
TZNAME:CET
DTSTART:20251026T010000
END:STANDARD
BEGIN:DAYLIGHT
TZOFFSETFROM:+0100
TZOFFSETTO:+0200
TZNAME:CEST
DTSTART:20260329T010000
END:DAYLIGHT
BEGIN:STANDARD
TZOFFSETFROM:+0200
TZOFFSETTO:+0100
TZNAME:CET
DTSTART:20261025T010000
END:STANDARD
END:VTIMEZONE
BEGIN:VEVENT
DTSTART;TZID=Europe/Paris:20250405T000000
DTEND;TZID=Europe/Paris:20250405T235959
DTSTAMP:20260422T135129
CREATED:20250104T173738Z
LAST-MODIFIED:20250311T180634Z
UID:6352-1743811200-1743897599@www.archersderipaille.fr
SUMMARY:Rencontre Débutants Thônes
DESCRIPTION:
URL:https://www.archersderipaille.fr/event/rencontre-debutants-thones/
CATEGORIES:Concours
ORGANIZER;CN="Archers Vall%C3%A9e Th%C3%B4nes":MAILTO:archers.thones74@gmail.com
END:VEVENT
BEGIN:VEVENT
DTSTART;TZID=Europe/Paris:20250412T000000
DTEND;TZID=Europe/Paris:20250412T235959
DTSTAMP:20260422T135129
CREATED:20250311T180515Z
LAST-MODIFIED:20250311T180722Z
UID:7125-1744416000-1744502399@www.archersderipaille.fr
SUMMARY:Concours Débutant Annemasse
DESCRIPTION:
URL:https://www.archersderipaille.fr/event/concours-debutant-annemasse/
CATEGORIES:Concours
END:VEVENT
BEGIN:VEVENT
DTSTART;TZID=Europe/Paris:20250412T000000
DTEND;TZID=Europe/Paris:20250413T235959
DTSTAMP:20260422T135129
CREATED:20250104T174314Z
LAST-MODIFIED:20250311T180333Z
UID:6354-1744416000-1744588799@www.archersderipaille.fr
SUMMARY:Tir extérieur Bonneville
DESCRIPTION:Tir Individuel TAE
URL:https://www.archersderipaille.fr/event/tir-exterieur-bonneville/
CATEGORIES:Concours
ORGANIZER;CN="Les Archers du Faucigny":MAILTO:adrien.garcia26@gmail.com
END:VEVENT
BEGIN:VEVENT
DTSTART;TZID=Europe/Paris:20250426T000000
DTEND;TZID=Europe/Paris:20250427T235959
DTSTAMP:20260422T135129
CREATED:20250104T174603Z
LAST-MODIFIED:20250418T133417Z
UID:6356-1745625600-1745798399@www.archersderipaille.fr
SUMMARY:Concours 3D Cruseilles
DESCRIPTION:Tir Individuel sur cible 3D en extérieur
URL:https://www.archersderipaille.fr/event/concours-3d-cruseilles/
LOCATION:CFA MFR les Dronières\, 826 Route des Dronières\, Cruseilles\, 74350\, France
CATEGORIES:Concours
ORGANIZER;CN="Les Archers du Sal%C3%A8ve":MAILTO:lesarchersdusaleve@gmail.com
END:VEVENT
BEGIN:VEVENT
DTSTART;TZID=Europe/Paris:20250427T000000
DTEND;TZID=Europe/Paris:20250427T235959
DTSTAMP:20260422T135129
CREATED:20250418T132654Z
LAST-MODIFIED:20250418T133025Z
UID:7381-1745712000-1745798399@www.archersderipaille.fr
SUMMARY:Concours Thônes
DESCRIPTION:Concours TAE DI et DN
URL:https://www.archersderipaille.fr/event/concours-thones/
LOCATION:Stade municipal Pierre Jacquet\, 3 Rue du Stade\, Thônes\, 74230\, France
CATEGORIES:Concours
ORGANIZER;CN="Archers Vall%C3%A9e Th%C3%B4nes":MAILTO:archers.thones74@gmail.com
END:VEVENT
END:VCALENDAR