BEGIN:VCALENDAR
VERSION:2.0
PRODID:-//Les Archers de Ripaille - ECPv6.15.18//NONSGML v1.0//EN
CALSCALE:GREGORIAN
METHOD:PUBLISH
X-WR-CALNAME:Les Archers de Ripaille
X-ORIGINAL-URL:https://www.archersderipaille.fr
X-WR-CALDESC:Évènements pour Les Archers de Ripaille
REFRESH-INTERVAL;VALUE=DURATION:PT1H
X-Robots-Tag:noindex
X-PUBLISHED-TTL:PT1H
BEGIN:VTIMEZONE
TZID:Europe/Paris
BEGIN:DAYLIGHT
TZOFFSETFROM:+0100
TZOFFSETTO:+0200
TZNAME:CEST
DTSTART:20240331T010000
END:DAYLIGHT
BEGIN:STANDARD
TZOFFSETFROM:+0200
TZOFFSETTO:+0100
TZNAME:CET
DTSTART:20241027T010000
END:STANDARD
BEGIN:DAYLIGHT
TZOFFSETFROM:+0100
TZOFFSETTO:+0200
TZNAME:CEST
DTSTART:20250330T010000
END:DAYLIGHT
BEGIN:STANDARD
TZOFFSETFROM:+0200
TZOFFSETTO:+0100
TZNAME:CET
DTSTART:20251026T010000
END:STANDARD
BEGIN:DAYLIGHT
TZOFFSETFROM:+0100
TZOFFSETTO:+0200
TZNAME:CEST
DTSTART:20260329T010000
END:DAYLIGHT
BEGIN:STANDARD
TZOFFSETFROM:+0200
TZOFFSETTO:+0100
TZNAME:CET
DTSTART:20261025T010000
END:STANDARD
END:VTIMEZONE
BEGIN:VEVENT
DTSTART;TZID=Europe/Paris:20250309T000000
DTEND;TZID=Europe/Paris:20250309T235959
DTSTAMP:20260422T120910
CREATED:20250218T103707Z
LAST-MODIFIED:20250218T201721Z
UID:6877-1741478400-1741564799@www.archersderipaille.fr
SUMMARY:Rencontre Débutants
DESCRIPTION:
URL:https://www.archersderipaille.fr/event/rencontre-debutants/
LOCATION:Gymnase Champagne\, 3 Rue Henri Baud\, Thonon-les-Bains\, 74200
CATEGORIES:Concours
ORGANIZER;CN="Les Archers de Ripaille":MAILTO:president@archersderipaille.fr
END:VEVENT
BEGIN:VEVENT
DTSTART;TZID=Europe/Paris:20250315T000000
DTEND;TZID=Europe/Paris:20250316T235959
DTSTAMP:20260422T120910
CREATED:20240928T180734Z
LAST-MODIFIED:20250204T202204Z
UID:4984-1741996800-1742169599@www.archersderipaille.fr
SUMMARY:Tir à l'Arc au Féminin
DESCRIPTION:Before the Girls\nGirls de la Yaute\n\n\nInscription\nInscription\n\n\nmandat Before 2025\nmandat GDLY2025
URL:https://www.archersderipaille.fr/event/tir-a-larc-au-feminin/
LOCATION:Gymmnase des Marquisats\, 54 Rue des Marquisats\, Annecy\, 74000
CATEGORIES:Concours
ORGANIZER;CN="1%C3%A8re Cie d'Arc d'Annecy St S%C3%A9bastien":MAILTO:arc.annecy@arc-annecy.com
END:VEVENT
BEGIN:VEVENT
DTSTART;TZID=Europe/Paris:20250323T000000
DTEND;TZID=Europe/Paris:20250323T235959
DTSTAMP:20260422T120911
CREATED:20240928T180937Z
LAST-MODIFIED:20250311T180000Z
UID:4986-1742688000-1742774399@www.archersderipaille.fr
SUMMARY:Concours Débutant Sallanches
DESCRIPTION:Rencontres Club Loisirs
URL:https://www.archersderipaille.fr/event/concours-debutant-sallanches/
CATEGORIES:Concours
ORGANIZER;CN="Les Archers de la Sallanche":MAILTO:archersdelasallanche@outlook.fr
END:VEVENT
BEGIN:VEVENT
DTSTART;VALUE=DATE:20250329
DTEND;VALUE=DATE:20250330
DTSTAMP:20260422T120911
CREATED:20240928T181316Z
LAST-MODIFIED:20241109T102644Z
UID:4990-1743206400-1743292799@www.archersderipaille.fr
SUMMARY:Rencontre Débutants Gavot
DESCRIPTION:Tir Individuel
URL:https://www.archersderipaille.fr/event/rencontre-debutants-gavot/
LOCATION:Gymnase Intercommunal du Pays de Gavot\, 382 Chemin de Chez Chevallay au Marauvant\, St Paul en Chablais\, 74500
CATEGORIES:Concours
ORGANIZER;CN="Les Archers du Gavot":MAILTO:clement.estran@gmail.com
END:VEVENT
BEGIN:VEVENT
DTSTART;TZID=Europe/Paris:20250330T000000
DTEND;TZID=Europe/Paris:20250330T235959
DTSTAMP:20260422T120911
CREATED:20240928T181129Z
LAST-MODIFIED:20250218T202821Z
UID:4988-1743292800-1743379199@www.archersderipaille.fr
SUMMARY:Trophée des Mixtes
DESCRIPTION:Tir en Duo Mixte à 18m
URL:https://www.archersderipaille.fr/event/trophee-des-mixtes/
LOCATION:Gymnase Intercommunal du Pays de Gavot\, 382 Chemin de Chez Chevallay au Marauvant\, St Paul en Chablais\, 74500
CATEGORIES:Concours
ORGANIZER;CN="Les Archers du Gavot":MAILTO:clement.estran@gmail.com
END:VEVENT
END:VCALENDAR