BEGIN:VCALENDAR
VERSION:2.0
PRODID:-//Les Archers de Ripaille - ECPv6.15.18//NONSGML v1.0//EN
CALSCALE:GREGORIAN
METHOD:PUBLISH
X-WR-CALNAME:Les Archers de Ripaille
X-ORIGINAL-URL:https://www.archersderipaille.fr
X-WR-CALDESC:Évènements pour Les Archers de Ripaille
REFRESH-INTERVAL;VALUE=DURATION:PT1H
X-Robots-Tag:noindex
X-PUBLISHED-TTL:PT1H
BEGIN:VTIMEZONE
TZID:Europe/Paris
BEGIN:DAYLIGHT
TZOFFSETFROM:+0100
TZOFFSETTO:+0200
TZNAME:CEST
DTSTART:20240331T010000
END:DAYLIGHT
BEGIN:STANDARD
TZOFFSETFROM:+0200
TZOFFSETTO:+0100
TZNAME:CET
DTSTART:20241027T010000
END:STANDARD
BEGIN:DAYLIGHT
TZOFFSETFROM:+0100
TZOFFSETTO:+0200
TZNAME:CEST
DTSTART:20250330T010000
END:DAYLIGHT
BEGIN:STANDARD
TZOFFSETFROM:+0200
TZOFFSETTO:+0100
TZNAME:CET
DTSTART:20251026T010000
END:STANDARD
BEGIN:DAYLIGHT
TZOFFSETFROM:+0100
TZOFFSETTO:+0200
TZNAME:CEST
DTSTART:20260329T010000
END:DAYLIGHT
BEGIN:STANDARD
TZOFFSETFROM:+0200
TZOFFSETTO:+0100
TZNAME:CET
DTSTART:20261025T010000
END:STANDARD
END:VTIMEZONE
BEGIN:VEVENT
DTSTART;TZID=Europe/Paris:20250104T000000
DTEND;TZID=Europe/Paris:20250105T235959
DTSTAMP:20260420T135439
CREATED:20241103T185121Z
LAST-MODIFIED:20241218T192453Z
UID:5857-1735948800-1736121599@www.archersderipaille.fr
SUMMARY:Concours 18m Annecy
DESCRIPTION:Concours à 18m en salle \n\n\n\n Mandat \n\n\n\nMandat Débutants
URL:https://www.archersderipaille.fr/event/concours-18m-annecy/
LOCATION:gymnase des marquisats\, 54 bis Rue des Marquisats\, Annecy\, 74000\, France
CATEGORIES:Concours
ORGANIZER;CN="1%C3%A8re Cie d'Arc d'Annecy St S%C3%A9bastien":MAILTO:arc.annecy@arc-annecy.com
END:VEVENT
BEGIN:VEVENT
DTSTART;TZID=Europe/Paris:20250111T000000
DTEND;TZID=Europe/Paris:20250112T235959
DTSTAMP:20260420T135439
CREATED:20240928T175358Z
LAST-MODIFIED:20241130T221131Z
UID:4964-1736553600-1736726399@www.archersderipaille.fr
SUMMARY:Tournoi du Léman
DESCRIPTION:Tir Individuel 18m avec DuelsMandat
URL:https://www.archersderipaille.fr/event/tournoi-du-leman/
CATEGORIES:Concours
ORGANIZER;CN="Les Archers de Ripaille":MAILTO:president@archersderipaille.fr
END:VEVENT
BEGIN:VEVENT
DTSTART;TZID=Europe/Paris:20250118T000000
DTEND;TZID=Europe/Paris:20250119T235959
DTSTAMP:20260420T135439
CREATED:20240928T175732Z
LAST-MODIFIED:20241218T193135Z
UID:4970-1737158400-1737331199@www.archersderipaille.fr
SUMMARY:Concours 18m Cruseilles
DESCRIPTION:Tir Individuel 18m – Rencontre Débutants le 19 \nMandat
URL:https://www.archersderipaille.fr/event/concours-18m-cruseilles/
LOCATION:Gymnase des Ebeaux\, 126 Avenue des Ebeaux\, Cruseilles\, 74350
CATEGORIES:Concours
ORGANIZER;CN="Les Archers du Sal%C3%A8ve":MAILTO:lesarchersdusaleve@gmail.com
END:VEVENT
BEGIN:VEVENT
DTSTART;TZID=Europe/Paris:20250125T000000
DTEND;TZID=Europe/Paris:20250126T235959
DTSTAMP:20260420T135439
CREATED:20240928T180116Z
LAST-MODIFIED:20250104T172832Z
UID:4976-1737763200-1737935999@www.archersderipaille.fr
SUMMARY:Concours 18m Bonneville
DESCRIPTION:Tir Individuel 18m - Rencontre Débutants le 26
URL:https://www.archersderipaille.fr/event/concours-18m-bonneville/
LOCATION:Gymnase Bonneville\, 157 rue Pertuiset\, Bonneville\, 74130\, France
CATEGORIES:Concours
ORGANIZER;CN="Les Archers du Faucigny":MAILTO:adrien.garcia26@gmail.com
END:VEVENT
END:VCALENDAR