BEGIN:VCALENDAR
VERSION:2.0
PRODID:-//Les Archers de Ripaille - ECPv6.15.18//NONSGML v1.0//EN
CALSCALE:GREGORIAN
METHOD:PUBLISH
X-WR-CALNAME:Les Archers de Ripaille
X-ORIGINAL-URL:https://www.archersderipaille.fr
X-WR-CALDESC:Évènements pour Les Archers de Ripaille
REFRESH-INTERVAL;VALUE=DURATION:PT1H
X-Robots-Tag:noindex
X-PUBLISHED-TTL:PT1H
BEGIN:VTIMEZONE
TZID:Europe/Paris
BEGIN:DAYLIGHT
TZOFFSETFROM:+0100
TZOFFSETTO:+0200
TZNAME:CEST
DTSTART:20230326T010000
END:DAYLIGHT
BEGIN:STANDARD
TZOFFSETFROM:+0200
TZOFFSETTO:+0100
TZNAME:CET
DTSTART:20231029T010000
END:STANDARD
BEGIN:DAYLIGHT
TZOFFSETFROM:+0100
TZOFFSETTO:+0200
TZNAME:CEST
DTSTART:20240331T010000
END:DAYLIGHT
BEGIN:STANDARD
TZOFFSETFROM:+0200
TZOFFSETTO:+0100
TZNAME:CET
DTSTART:20241027T010000
END:STANDARD
BEGIN:DAYLIGHT
TZOFFSETFROM:+0100
TZOFFSETTO:+0200
TZNAME:CEST
DTSTART:20250330T010000
END:DAYLIGHT
BEGIN:STANDARD
TZOFFSETFROM:+0200
TZOFFSETTO:+0100
TZNAME:CET
DTSTART:20251026T010000
END:STANDARD
END:VTIMEZONE
BEGIN:VEVENT
DTSTART;VALUE=DATE:20241102
DTEND;VALUE=DATE:20241104
DTSTAMP:20260422T140506
CREATED:20240928T162823Z
LAST-MODIFIED:20240928T164834Z
UID:4896-1730505600-1730678399@www.archersderipaille.fr
SUMMARY:Concours 18m Saint-Jorioz
DESCRIPTION:
URL:https://www.archersderipaille.fr/event/concours-18m-saint-jorioz/
LOCATION:Gymnase Saint Jorioz\, 2 route du stade\, St Jorioz\, 74410\, France
CATEGORIES:Concours
ORGANIZER;CN="Les Archers du Lac":MAILTO:henri.lupin@wanadoo.fr
END:VEVENT
BEGIN:VEVENT
DTSTART;VALUE=DATE:20241109
DTEND;VALUE=DATE:20241111
DTSTAMP:20260422T140506
CREATED:20240928T164653Z
LAST-MODIFIED:20240928T164653Z
UID:4910-1731110400-1731283199@www.archersderipaille.fr
SUMMARY:Concours 18m Thônes
DESCRIPTION:
URL:https://www.archersderipaille.fr/event/concours-18m-thones/
LOCATION:Gymnase des Perrasses\, Gymnase des Perrasses\, Thônes\, 74230
CATEGORIES:Concours
ORGANIZER;CN="Archers Vall%C3%A9e Th%C3%B4nes":MAILTO:archers.thones74@gmail.com
END:VEVENT
BEGIN:VEVENT
DTSTART;TZID=Europe/Paris:20241116T000000
DTEND;TZID=Europe/Paris:20241117T235959
DTSTAMP:20260422T140506
CREATED:20240928T170157Z
LAST-MODIFIED:20241109T103806Z
UID:4922-1731715200-1731887999@www.archersderipaille.fr
SUMMARY:Concours Pierre Cromenn
DESCRIPTION:Tir Individuel à 18m - Rencontre Débutants le 17MandatMandat Débutants
URL:https://www.archersderipaille.fr/event/concours-pierre-cromenn/
LOCATION:Gymnase Intercommunal du Pays de Gavot\, 382 Chemin de Chez Chevallay au Marauvant\, St Paul en Chablais\, 74500
CATEGORIES:Concours
ORGANIZER;CN="Les Archers du Gavot":MAILTO:clement.estran@gmail.com
END:VEVENT
BEGIN:VEVENT
DTSTART;TZID=Europe/Paris:20241123T000000
DTEND;TZID=Europe/Paris:20241124T235959
DTSTAMP:20260422T140506
CREATED:20240928T171852Z
LAST-MODIFIED:20241109T104352Z
UID:4929-1732320000-1732492799@www.archersderipaille.fr
SUMMARY:Concours 18m SEYNOD
DESCRIPTION:Tir Individuel 18m - Rencontre Débutants le 23MandatMandat Débutants
URL:https://www.archersderipaille.fr/event/concours-18m-seynod/
LOCATION:Seynod\, Gymnase du Semnoz\, Seynod\, 74600
CATEGORIES:Concours
ORGANIZER;CN="Cie de Tir %C3%A0 l'Arc Les Sagittaires":MAILTO:lessagittairesdeseynod@gmail.com
END:VEVENT
BEGIN:VEVENT
DTSTART;TZID=Europe/Paris:20241130T000000
DTEND;TZID=Europe/Paris:20241201T235959
DTSTAMP:20260422T140506
CREATED:20240928T172229Z
LAST-MODIFIED:20241103T184010Z
UID:4936-1732924800-1733097599@www.archersderipaille.fr
SUMMARY:Concours Annecy 18m
DESCRIPTION:Tir Individuel 18m - Rencontre Débutants le 01/12
URL:https://www.archersderipaille.fr/event/concours-annecy-18m/
LOCATION:Gymmnase des Marquisats\, 54 Rue des Marquisats\, Annecy\, 74000
CATEGORIES:Concours
ORGANIZER;CN="1%C3%A8re Cie d'Arc d'Annecy St S%C3%A9bastien":MAILTO:arc.annecy@arc-annecy.com
END:VEVENT
END:VCALENDAR